BEGIN:VCALENDAR
VERSION:2.0
PRODID:Shead Property specialising in Commercial and Residential property
 in Sydney&#039;s Upper North Shore Open for Inspection - SHELTERED FAMILY
 HOME IN A SUPERB GARDEN SETTING **OPEN FOR INSPECTION ON SAT 27TH FEB AT
 12:40 - 12:55PM** CONTACT NADIA ON 0431 291 021
BEGIN:VTIMEZONE
TZID:Australia/Melbourne
BEGIN:STANDARD
DTSTART:20210227T124000
TZOFFSETTO:+1100
TZNAME:GMT+11
END:STANDARD
END:VTIMEZONE
BEGIN:VEVENT
UID:603a3ed5d47ff
DTSTART;TZID=Australia/Melbourne:20210227T124000
SEQUENCE:0
TRANSP:OPAQUE
DTEND;TZID=Australia/Melbourne:20210227T125500
LOCATION:83 Bobbin Head Road Turramurra NSW
SUMMARY:Shead Property specialising in Commercial and Residential property
 in Sydney&#039;s Upper North Shore Open for Inspection - 83 Bobbin Head
 Road Turramurra NSW
CLASS:PUBLIC
DESCRIPTION:Open for Inspection: 83 Bobbin Head Road Turramurra NSW
 Saturday 27th Feb 12:40pm - 12:55pm Click the link for full listing
 information:
 https://www.shead.com.au/lease/nsw/north-shore-upper/turramurra/residential/house/6244883
DTSTAMP:20210227T124509
END:VEVENT
END:VCALENDAR