BEGIN:VCALENDAR
VERSION:2.0
PRODID:Shead Property specialising in Commercial and Residential property
 in Sydney&#039;s Upper North Shore Open for Inspection - 'SPACIOUS WITH
 AIR CON' **OPEN FOR INSPECTION ON SAT 27TH FEB AT 11:45 - 12:00PM**
 CONTACT NADIA ON 0431 291 021
BEGIN:VTIMEZONE
TZID:Australia/Melbourne
BEGIN:STANDARD
DTSTART:20210227T234500
TZOFFSETTO:+1100
TZNAME:GMT+11
END:STANDARD
END:VTIMEZONE
BEGIN:VEVENT
UID:603a3e7445037
DTSTART;TZID=Australia/Melbourne:20210227T234500
SEQUENCE:0
TRANSP:OPAQUE
DTEND;TZID=Australia/Melbourne:20210227T000000
LOCATION:1/110 Pacific Highway Roseville NSW
SUMMARY:Shead Property specialising in Commercial and Residential property
 in Sydney&#039;s Upper North Shore Open for Inspection - 1/110 Pacific
 Highway Roseville NSW
CLASS:PUBLIC
DESCRIPTION:Open for Inspection: 1/110 Pacific Highway Roseville NSW
 Saturday 27th Feb 23:45pm - 00:00am Click the link for full listing
 information:
 https://www.shead.com.au/lease/nsw/north-shore-upper/roseville/residential/unit/6244937
DTSTAMP:20210227T124332
END:VEVENT
END:VCALENDAR