BEGIN:VCALENDAR
VERSION:2.0
PRODID:Shead Property specialising in Commercial and Residential property
 in Sydney&#039;s Upper North Shore Open for Inspection - FOUR BEDROOM HOME
 WITH A HUGE REAR YARD  **OPEN FOR INSPECTION ON SAT 27TH FEB AT 1:00 -
 1:15PM** CONTACT NADIA ON 0431 291 021
BEGIN:VTIMEZONE
TZID:Australia/Melbourne
BEGIN:STANDARD
DTSTART:20210227T130000
TZOFFSETTO:+1100
TZNAME:GMT+11
END:STANDARD
END:VTIMEZONE
BEGIN:VEVENT
UID:603a3ecc87337
DTSTART;TZID=Australia/Melbourne:20210227T130000
SEQUENCE:0
TRANSP:OPAQUE
DTEND;TZID=Australia/Melbourne:20210227T131500
LOCATION:2 Reely Street Pymble NSW
SUMMARY:Shead Property specialising in Commercial and Residential property
 in Sydney&#039;s Upper North Shore Open for Inspection - 2 Reely Street
 Pymble NSW
CLASS:PUBLIC
DESCRIPTION:Open for Inspection: 2 Reely Street Pymble NSW Saturday 27th
 Feb 13:00pm - 13:15pm Click the link for full listing information:
 https://www.shead.com.au/lease/nsw/north-shore-upper/pymble/residential/house/6244919
DTSTAMP:20210227T124500
END:VEVENT
END:VCALENDAR