BEGIN:VCALENDAR
VERSION:2.0
PRODID:Shead Property specialising in Commercial and Residential property
 in Sydney&#039;s Upper North Shore Open for Inspection - NEW PAINT AND
 CARPET **OPEN FOR INSPECTION ON SAT 27TH FEB AT 12:05 - 12:20PM** CONTACT
 NADIA ON 0431 291 021
BEGIN:VTIMEZONE
TZID:Australia/Melbourne
BEGIN:STANDARD
DTSTART:20210227T120500
TZOFFSETTO:+1100
TZNAME:GMT+11
END:STANDARD
END:VTIMEZONE
BEGIN:VEVENT
UID:603a3e08b5585
DTSTART;TZID=Australia/Melbourne:20210227T120500
SEQUENCE:0
TRANSP:OPAQUE
DTEND;TZID=Australia/Melbourne:20210227T122000
LOCATION:7/198 Pacific Highway Lindfield NSW
SUMMARY:Shead Property specialising in Commercial and Residential property
 in Sydney&#039;s Upper North Shore Open for Inspection - 7/198 Pacific
 Highway Lindfield NSW
CLASS:PUBLIC
DESCRIPTION:Open for Inspection: 7/198 Pacific Highway Lindfield NSW
 Saturday 27th Feb 12:05pm - 12:20pm Click the link for full listing
 information:
 https://www.shead.com.au/lease/nsw/north-shore-upper/lindfield/residential/unit/6316128
DTSTAMP:20210227T124144
END:VEVENT
END:VCALENDAR