BEGIN:VCALENDAR
VERSION:2.0
PRODID:Shead Property specialising in Commercial and Residential property
 in Sydney&#039;s Upper North Shore Open for Inspection - IDYLLIC THREE
 BEDROOM HOME IN TRANQUIL BUSHLAND SETTING WITH GARDEN MAINTENANCE **OPEN
 FOR INSPECTION SAT 27TH FEB AT 1:30 - 1:45PM**
BEGIN:VTIMEZONE
TZID:Australia/Melbourne
BEGIN:STANDARD
DTSTART:20210227T133000
TZOFFSETTO:+1100
TZNAME:GMT+11
END:STANDARD
END:VTIMEZONE
BEGIN:VEVENT
UID:603a3f9455ba6
DTSTART;TZID=Australia/Melbourne:20210227T133000
SEQUENCE:0
TRANSP:OPAQUE
DTEND;TZID=Australia/Melbourne:20210227T134500
LOCATION:32 Coolaroo Road Lane Cove NSW
SUMMARY:Shead Property specialising in Commercial and Residential property
 in Sydney&#039;s Upper North Shore Open for Inspection - 32 Coolaroo Road
 Lane Cove NSW
CLASS:PUBLIC
DESCRIPTION:Open for Inspection: 32 Coolaroo Road Lane Cove NSW Saturday
 27th Feb 13:30pm - 13:45pm Click the link for full listing information:
 https://www.shead.com.au/lease/nsw/north-shore-lower/lane-cove/residential/house/6316177
DTSTAMP:20210227T124820
END:VEVENT
END:VCALENDAR