BEGIN:VCALENDAR
VERSION:2.0
PRODID:Shead Property specialising in Commercial and Residential property
 in Sydney&#039;s Upper North Shore Open for Inspection - NORTH FACING
 COURTYARD APARTMENT **OPEN FOR INSPECTION SAT 27TH FEB AT 11:40 -
 11:55AM** CONTACT EDDIE 0487 794 281
BEGIN:VTIMEZONE
TZID:Australia/Melbourne
BEGIN:STANDARD
DTSTART:20210227T114000
TZOFFSETTO:+1100
TZNAME:GMT+11
END:STANDARD
END:VTIMEZONE
BEGIN:VEVENT
UID:603a3fda95281
DTSTART;TZID=Australia/Melbourne:20210227T114000
SEQUENCE:0
TRANSP:OPAQUE
DTEND;TZID=Australia/Melbourne:20210227T115500
LOCATION:2/2 Wilson Street Chatswood NSW
SUMMARY:Shead Property specialising in Commercial and Residential property
 in Sydney&#039;s Upper North Shore Open for Inspection - 2/2 Wilson Street
 Chatswood NSW
CLASS:PUBLIC
DESCRIPTION:Open for Inspection: 2/2 Wilson Street Chatswood NSW Saturday
 27th Feb 11:40am - 11:55am Click the link for full listing information:
 https://www.shead.com.au/lease/nsw/north-shore-lower/chatswood/residential/unit/6316203
DTSTAMP:20210227T124930
END:VEVENT
END:VCALENDAR