BEGIN:VCALENDAR
VERSION:2.0
PRODID:Shead Property specialising in Commercial and Residential property
 in Sydney&#039;s Upper North Shore Open for Inspection - SPACE, SECURITY,
 CONVENIENCE AND DISTRICT VIEWS - **OPEN FOR INSPECTION SAT 27TH FEB AT
 1:25 - 1:40PM** CONTACT ELIZABETH ON 0431 500 578
BEGIN:VTIMEZONE
TZID:Australia/Melbourne
BEGIN:STANDARD
DTSTART:20210227T132500
TZOFFSETTO:+1100
TZNAME:GMT+11
END:STANDARD
END:VTIMEZONE
BEGIN:VEVENT
UID:603a3f4f93c66
DTSTART;TZID=Australia/Melbourne:20210227T132500
SEQUENCE:0
TRANSP:OPAQUE
DTEND;TZID=Australia/Melbourne:20210227T134000
LOCATION:25/37 Johnson Street Chatswood NSW
SUMMARY:Shead Property specialising in Commercial and Residential property
 in Sydney&#039;s Upper North Shore Open for Inspection - 25/37 Johnson
 Street Chatswood NSW
CLASS:PUBLIC
DESCRIPTION:Open for Inspection: 25/37 Johnson Street Chatswood NSW
 Saturday 27th Feb 13:25pm - 13:40pm Click the link for full listing
 information:
 https://www.shead.com.au/lease/nsw/north-shore-lower/chatswood/residential/unit/6316080
DTSTAMP:20210227T124711
END:VEVENT
END:VCALENDAR