BEGIN:VCALENDAR
VERSION:2.0
PRODID:Shead Property specialising in Commercial and Residential property
 in Sydney&#039;s Upper North Shore Open for Inspection - UPDATED THREE
 BEDROOM UNIT IN THE HEART OF CHATSEWOOD - **OPEN FOR INSPECTION TUE 2ND
 MAR AT 12:00 - 12:15PM**
BEGIN:VTIMEZONE
TZID:Australia/Melbourne
BEGIN:STANDARD
DTSTART:20210302T120000
TZOFFSETTO:+1100
TZNAME:GMT+11
END:STANDARD
END:VTIMEZONE
BEGIN:VEVENT
UID:603a3f60e9b01
DTSTART;TZID=Australia/Melbourne:20210302T120000
SEQUENCE:0
TRANSP:OPAQUE
DTEND;TZID=Australia/Melbourne:20210302T121500
LOCATION:10/38 Archer Street Chatswood NSW
SUMMARY:Shead Property specialising in Commercial and Residential property
 in Sydney&#039;s Upper North Shore Open for Inspection - 10/38 Archer
 Street Chatswood NSW
CLASS:PUBLIC
DESCRIPTION:Open for Inspection: 10/38 Archer Street Chatswood NSW Tuesday
 2nd Mar 12:00pm - 12:15pm Click the link for full listing information:
 https://www.shead.com.au/lease/nsw/north-shore-lower/chatswood/residential/unit/6315959
DTSTAMP:20210227T124728
END:VEVENT
END:VCALENDAR