BEGIN:VCALENDAR
VERSION:2.0
PRODID:Shead Property specialising in Commercial and Residential property
 in Sydney&#039;s Upper North Shore Open for Inspection - FULLY RENOVATED
 TWO BEDROOM AT QUIET REAR OF THE BUILDING  **OPEN FOR INSPECTION SAT 27TH
 FEB AT 11:10 - 11:25AM** CONTACT EDDIE 0487 794 281
BEGIN:VTIMEZONE
TZID:Australia/Melbourne
BEGIN:STANDARD
DTSTART:20210227T111000
TZOFFSETTO:+1100
TZNAME:GMT+11
END:STANDARD
END:VTIMEZONE
BEGIN:VEVENT
UID:603a3eb801c2b
DTSTART;TZID=Australia/Melbourne:20210227T111000
SEQUENCE:0
TRANSP:OPAQUE
DTEND;TZID=Australia/Melbourne:20210227T112500
LOCATION:1/892 Pacific Highway Chatswood NSW
SUMMARY:Shead Property specialising in Commercial and Residential property
 in Sydney&#039;s Upper North Shore Open for Inspection - 1/892 Pacific
 Highway Chatswood NSW
CLASS:PUBLIC
DESCRIPTION:Open for Inspection: 1/892 Pacific Highway Chatswood NSW
 Saturday 27th Feb 11:10am - 11:25am Click the link for full listing
 information:
 https://www.shead.com.au/lease/nsw/north-shore-lower/chatswood/residential/unit/6244938
DTSTAMP:20210227T124440
END:VEVENT
END:VCALENDAR