BEGIN:VCALENDAR
VERSION:2.0
PRODID:Shead Property specialising in Commercial and Residential property
 in Sydney&#039;s Upper North Shore Open for Inspection - CONVENIENT TO
 SCHOOLS AND TRAIN STATION **OPEN FOR INSPECTION SAT 27TH FEB AT 10:45 -
 11:00AM** CONTACT EDDIE 0487 794 281
BEGIN:VTIMEZONE
TZID:Australia/Melbourne
BEGIN:STANDARD
DTSTART:20210227T104500
TZOFFSETTO:+1100
TZNAME:GMT+11
END:STANDARD
END:VTIMEZONE
BEGIN:VEVENT
UID:603a3e7deee71
DTSTART;TZID=Australia/Melbourne:20210227T104500
SEQUENCE:0
TRANSP:OPAQUE
DTEND;TZID=Australia/Melbourne:20210227T110000
LOCATION:4/814 Pacific Highway Chatswood NSW
SUMMARY:Shead Property specialising in Commercial and Residential property
 in Sydney&#039;s Upper North Shore Open for Inspection - 4/814 Pacific
 Highway Chatswood NSW
CLASS:PUBLIC
DESCRIPTION:Open for Inspection: 4/814 Pacific Highway Chatswood NSW
 Saturday 27th Feb 10:45am - 11:00am Click the link for full listing
 information:
 https://www.shead.com.au/lease/nsw/north-shore-lower/chatswood/residential/unit/6231700
DTSTAMP:20210227T124341
END:VEVENT
END:VCALENDAR